BEGIN:VCALENDAR
VERSION:2.0
PRODID:icalendar-ruby
CALSCALE:GREGORIAN
METHOD:PUBLISH
BEGIN:VEVENT
DTSTAMP:20260424T145827Z
UID:http://www.easylinkproperty.com.au/property?property_id=684370
DTSTART:20210220T113000
DTEND:20210220T120000
CLASS:PUBLIC
CREATED:20210121T171317
DESCRIPTION: 
LAST-MODIFIED:20210903T112734
LOCATION:2 / 22 Oakleigh Road\, CARNEGIE VIC 3163\, Australia
SUMMARY:2 / 22 Oakleigh Road\,  Auction
URL;VALUE=URI:http://www.easylinkproperty.com.au/property?property_id=68437
 0
END:VEVENT
END:VCALENDAR
