BEGIN:VCALENDAR
VERSION:2.0
PRODID:icalendar-ruby
CALSCALE:GREGORIAN
METHOD:PUBLISH
BEGIN:VEVENT
DTSTAMP:20260424T150151Z
UID:http://www.easylinkproperty.com.au/property?property_id=660753
DTSTART:20201205T150000
DTEND:20201205T153000
CLASS:PUBLIC
CREATED:20201106T180645
DESCRIPTION: 
LAST-MODIFIED:20210915T152223
LOCATION:19 Dawayne Street\, BURWOOD EAST VIC 3151\, Australia
SUMMARY:19 Dawayne Street\,  Auction
URL;VALUE=URI:http://www.easylinkproperty.com.au/property?property_id=66075
 3
END:VEVENT
END:VCALENDAR
