BEGIN:VCALENDAR
VERSION:2.0
PRODID:icalendar-ruby
CALSCALE:GREGORIAN
METHOD:PUBLISH
BEGIN:VTIMEZONE
TZID:Australia/Melbourne
BEGIN:DAYLIGHT
DTSTART:20201004T030000
TZOFFSETFROM:+1000
TZOFFSETTO:+1100
RRULE:FREQ=YEARLY;BYDAY=1SU;BYMONTH=10
TZNAME:AEDT
END:DAYLIGHT
BEGIN:STANDARD
DTSTART:20210404T020000
TZOFFSETFROM:+1100
TZOFFSETTO:+1000
RRULE:FREQ=YEARLY;BYDAY=1SU;BYMONTH=4
TZNAME:AEST
END:STANDARD
END:VTIMEZONE
BEGIN:VEVENT
DTSTAMP:20210226T130641Z
UID:inspection_931840
DTSTART;TZID=Australia/Melbourne:20210227T110000
DTEND;TZID=Australia/Melbourne:20210227T113000
CLASS:PUBLIC
CREATED:20210223T022052
DESCRIPTION: 
LAST-MODIFIED:20210223T022052
LOCATION:202 / 340 Whitehorse Road\, BALWYN VIC 3103\, Australia
SUMMARY:202 / 340 Whitehorse Road\,  Inspection
URL:http://www.auzp.com.au/
END:VEVENT
END:VCALENDAR
